BEGIN:VCALENDAR
VERSION:2.0
PRODID:-//ChamberMaster//Event Calendar 2.0//EN
METHOD:PUBLISH
X-PUBLISHED-TTL:P3D
REFRESH-INTERVAL:P3D
CALSCALE:GREGORIAN
BEGIN:VEVENT
DTSTART:20230715T220000Z
DTEND:20230716T000000Z
X-MICROSOFT-CDO-ALLDAYEVENT:FALSE
SUMMARY:Summer Concert - White Wedding Band
DESCRIPTION:White Wedding Band
X-ALT-DESC;FMTTYPE=text/html:White Wedding Band
LOCATION:Wampus Brook Park\, Armonk\, NY
UID:e.1129.2544
SEQUENCE:3
DTSTAMP:20260421T135333Z
URL:https://business.armonkchamberofcommerce.com/events/details/summer-concert-white-wedding-band-2544
END:VEVENT

END:VCALENDAR
