BEGIN:VCALENDAR
VERSION:2.0
PRODID:-//ChamberMaster//Event Calendar 2.0//EN
METHOD:PUBLISH
X-PUBLISHED-TTL:P3D
REFRESH-INTERVAL:P3D
CALSCALE:GREGORIAN
BEGIN:VEVENT
DTSTART:20230819T220000Z
DTEND:20230820T000000Z
X-MICROSOFT-CDO-ALLDAYEVENT:FALSE
SUMMARY:Summer Concert - The Mighty Spectrum
DESCRIPTION:The Mighty Spectrum \n\n\n\nListen to them here
X-ALT-DESC;FMTTYPE=text/html:<span style="font-size:22px\;">The Mighty Spectrum&nbsp\;</span><br />\n<br />\n<span style="font-size:18px\;"><strong><a href="https://www.youtube.com/watch?v=ZwdrVa2RCpE">Listen to them here</a></strong></span>
LOCATION:Wampus Brook Park\, Armonk\, NY
UID:e.1129.2547
SEQUENCE:3
DTSTAMP:20260421T122044Z
URL:https://business.armonkchamberofcommerce.com/events/details/summer-concert-the-mighty-spectrum-2547
END:VEVENT

END:VCALENDAR
