BEGIN:VCALENDAR
VERSION:2.0
PRODID:-//ChamberMaster//Event Calendar 2.0//EN
METHOD:PUBLISH
X-PUBLISHED-TTL:P3D
REFRESH-INTERVAL:P3D
CALSCALE:GREGORIAN
BEGIN:VEVENT
DTSTART:20250818T220000Z
DTEND:20250819T000000Z
X-MICROSOFT-CDO-ALLDAYEVENT:FALSE
SUMMARY:Summer Concert - The Men of Soul
DESCRIPTION:The Men of Soul
X-ALT-DESC;FMTTYPE=text/html:The Men of Soul<br />\n&nbsp\;
LOCATION:Wampus Brook Park\, Armonk\, NY
UID:e.1129.2602
SEQUENCE:3
DTSTAMP:20260420T213217Z
URL:https://business.armonkchamberofcommerce.com/events/details/summer-concert-the-men-of-soul-2602
END:VEVENT

END:VCALENDAR
