BEGIN:VCALENDAR
VERSION:2.0
PRODID:-//ChamberMaster//Event Calendar 2.0//EN
METHOD:PUBLISH
X-PUBLISHED-TTL:P3D
REFRESH-INTERVAL:P3D
CALSCALE:GREGORIAN
BEGIN:VEVENT
DTSTART:20250816T220000Z
DTEND:20250817T000000Z
X-MICROSOFT-CDO-ALLDAYEVENT:FALSE
SUMMARY:Summer Concert - Green River (CCR)
DESCRIPTION:Green River (CCR)
X-ALT-DESC;FMTTYPE=text/html:<span style="font-size:22px\;">Green River (CCR)</span><br />\n&nbsp\;
LOCATION:Wampus Brook Park\, Armonk\, NY
UID:e.1129.2605
SEQUENCE:3
DTSTAMP:20260420T084909Z
URL:https://business.armonkchamberofcommerce.com/events/details/summer-concert-green-river-ccr-2605
END:VEVENT

END:VCALENDAR
