BEGIN:VCALENDAR
VERSION:2.0
PRODID:-//ChamberMaster//Event Calendar 2.0//EN
METHOD:PUBLISH
X-PUBLISHED-TTL:P3D
REFRESH-INTERVAL:P3D
CALSCALE:GREGORIAN
BEGIN:VEVENT
DTSTART:20230729T220000Z
DTEND:20230730T000000Z
X-MICROSOFT-CDO-ALLDAYEVENT:FALSE
SUMMARY:Summer Concert - Deni Bonet Band
DESCRIPTION:Deni Bonet Band
X-ALT-DESC;FMTTYPE=text/html:Deni Bonet Band
LOCATION:Wampus Brook Park\, Armonk\, NY
UID:e.1129.2545
SEQUENCE:3
DTSTAMP:20260421T135512Z
URL:https://business.armonkchamberofcommerce.com/events/details/summer-concert-deni-bonet-band-2545
END:VEVENT

END:VCALENDAR
