BEGIN:VCALENDAR
VERSION:2.0
PRODID:-//ChamberMaster//Event Calendar 2.0//EN
METHOD:PUBLISH
X-PUBLISHED-TTL:P3D
REFRESH-INTERVAL:P3D
CALSCALE:GREGORIAN
BEGIN:VEVENT
DTSTART:20250712T220000Z
DTEND:20250713T000000Z
X-MICROSOFT-CDO-ALLDAYEVENT:FALSE
SUMMARY:Summer Concert - Best Shot: Music of Pat Benatar & Women Who Rock
DESCRIPTION:Best Shot: Music of Pat Benatar & Women Who Rock
X-ALT-DESC;FMTTYPE=text/html:<span style="font-size:22px\;">Best Shot: Music of Pat Benatar &amp\; Women Who Rock</span><br />\n<br />\n<br />\n<br />\n&nbsp\;
LOCATION:Wampus Brook Park\, Armonk\, NY
UID:e.1129.2601
SEQUENCE:3
DTSTAMP:20260420T195626Z
URL:https://business.armonkchamberofcommerce.com/events/details/summer-concert-best-shot-music-of-pat-benatar-women-who-rock-2601
END:VEVENT

END:VCALENDAR
