BEGIN:VCALENDAR
VERSION:2.0
PRODID:-//ChamberMaster//Event Calendar 2.0//EN
METHOD:PUBLISH
X-PUBLISHED-TTL:P3D
REFRESH-INTERVAL:P3D
CALSCALE:GREGORIAN
BEGIN:VEVENT
DTSTART:20250828T220000Z
DTEND:20250829T000000Z
X-MICROSOFT-CDO-ALLDAYEVENT:FALSE
SUMMARY:Music in Armonk Square - School of Rock Bedford
DESCRIPTION:Music in the Square
X-ALT-DESC;FMTTYPE=text/html:<span style="font-size:24px\;">Music in the Square&nbsp\;</span><br />\n<br />\n<br />\n<br />\n<br />\n&nbsp\;
LOCATION:Armonk Square
UID:e.1129.2552
SEQUENCE:3
DTSTAMP:20260420T230033Z
URL:https://business.armonkchamberofcommerce.com/events/details/music-in-armonk-square-school-of-rock-bedford-2552
END:VEVENT

END:VCALENDAR
