BEGIN:VCALENDAR
VERSION:2.0
PRODID:-//ChamberMaster//Event Calendar 2.0//EN
METHOD:PUBLISH
X-PUBLISHED-TTL:P3D
REFRESH-INTERVAL:P3D
CALSCALE:GREGORIAN
BEGIN:VEVENT
DTSTART:20230810T220000Z
DTEND:20230811T000000Z
X-MICROSOFT-CDO-ALLDAYEVENT:FALSE
SUMMARY:Music in Armonk Square - Puppets for Hire
DESCRIPTION:Music in the Square
X-ALT-DESC;FMTTYPE=text/html:<span style="font-size:24px\;">Music in the Square&nbsp\;</span><br>\n<br>\n&nbsp\;
LOCATION:Armonk Square
UID:e.1129.2551
SEQUENCE:3
DTSTAMP:20260421T124851Z
URL:https://business.armonkchamberofcommerce.com/events/details/music-in-armonk-square-puppets-for-hire-2551
END:VEVENT

END:VCALENDAR
