BEGIN:VCALENDAR
VERSION:2.0
PRODID:-//ChamberMaster//Event Calendar 2.0//EN
METHOD:PUBLISH
X-PUBLISHED-TTL:P3D
REFRESH-INTERVAL:P3D
CALSCALE:GREGORIAN
BEGIN:VEVENT
DTSTART:20230622T220000Z
DTEND:20230623T000000Z
X-MICROSOFT-CDO-ALLDAYEVENT:FALSE
SUMMARY:Music in Armonk Square - Monday Best/Sarah Browne
DESCRIPTION:Music in the Square \n\n\n\nMonday Best/Sarah Browne \n\n\n\n\n\n   \n\n\n\nListen to them here
X-ALT-DESC;FMTTYPE=text/html:<span style="font-size:24px\;">Music in the Square&nbsp\;<br />\n<br />\nMonday Best/Sarah Browne&nbsp\;</span><br />\n<br />\n<br />\n&nbsp\; &nbsp\;<br />\n<br />\n<span style="font-size:22px\;"><a href="https://www.youtube.com/watch?v=i7EQvQ9AIMA">Listen to them here</a></span><br />\n<br />\n&nbsp\;
LOCATION:Armonk Square
UID:e.1129.2548
SEQUENCE:3
DTSTAMP:20260421T170342Z
URL:https://business.armonkchamberofcommerce.com/events/details/music-in-armonk-square-monday-best-sarah-browne-2548
END:VEVENT

END:VCALENDAR
