BEGIN:VCALENDAR
VERSION:2.0
PRODID:-//ChamberMaster//Event Calendar 2.0//EN
METHOD:PUBLISH
X-PUBLISHED-TTL:P3D
REFRESH-INTERVAL:P3D
CALSCALE:GREGORIAN
BEGIN:VEVENT
DTSTART:20240627T220000Z
DTEND:20240628T000000Z
X-MICROSOFT-CDO-ALLDAYEVENT:FALSE
SUMMARY:Music in Armonk Square - Monday Best featuring Sarah Browne
DESCRIPTION:Music in Armonk Square  - Monday Best featuring Sarah Browne
X-ALT-DESC;FMTTYPE=text/html:Music in Armonk Square&nbsp\; - Monday Best featuring Sarah Browne
LOCATION:
UID:e.1129.2589
SEQUENCE:3
DTSTAMP:20260420T233548Z
URL:https://business.armonkchamberofcommerce.com/events/details/music-in-armonk-square-monday-best-featuring-sarah-browne-2589
END:VEVENT

END:VCALENDAR
