BEGIN:VCALENDAR
VERSION:2.0
PRODID:-//ChamberMaster//Event Calendar 2.0//EN
METHOD:PUBLISH
X-PUBLISHED-TTL:P3D
REFRESH-INTERVAL:P3D
CALSCALE:GREGORIAN
BEGIN:VEVENT
DTSTART:20250717T220000Z
DTEND:20250718T000000Z
X-MICROSOFT-CDO-ALLDAYEVENT:FALSE
SUMMARY:Music in Armonk Square - Metro Music featuring Joe Tribuzio
DESCRIPTION:Music in the Square \n\n\n\nMetro Music Featuring Joe Tribuzio\n\n\n\nListen to them here
X-ALT-DESC;FMTTYPE=text/html:<span style="font-size:24px\;">Music in the Square&nbsp\;<br />\n<br />\nMetro Music Featuring Joe Tribuzio</span><br />\n<br />\n<span style="font-size:22px\;"><a href="https://www.youtube.com/watch?v=SzUQhDhrJ44">Listen to them here</a></span><br />\n<br />\n&nbsp\;
LOCATION:Armonk Square
UID:e.1129.2607
SEQUENCE:3
DTSTAMP:20260420T212222Z
URL:https://business.armonkchamberofcommerce.com/events/details/music-in-armonk-square-metro-music-featuring-joe-tribuzio-2607
END:VEVENT

END:VCALENDAR
