BEGIN:VCALENDAR
VERSION:2.0
PRODID:-//ChamberMaster//Event Calendar 2.0//EN
METHOD:PUBLISH
X-PUBLISHED-TTL:P3D
REFRESH-INTERVAL:P3D
CALSCALE:GREGORIAN
BEGIN:VEVENT
DTSTART:20230907T220000Z
DTEND:20230908T000000Z
X-MICROSOFT-CDO-ALLDAYEVENT:FALSE
SUMMARY:Music in Armonk Square - Grandpa Moses
DESCRIPTION:Music in the Square \n\n\n\nGrandpa Moses
X-ALT-DESC;FMTTYPE=text/html:<span style="font-size:24px\;">Music in the Square&nbsp\;<br />\n<br />\nGrandpa Moses</span><br />\n&nbsp\;
LOCATION:Armonk Square
UID:e.1129.2553
SEQUENCE:3
DTSTAMP:20260421T110038Z
URL:https://business.armonkchamberofcommerce.com/events/details/music-in-armonk-square-grandpa-moses-2553
END:VEVENT

END:VCALENDAR
