BEGIN:VCALENDAR
VERSION:2.0
PRODID:-//ChamberMaster//Event Calendar 2.0//EN
METHOD:PUBLISH
X-PUBLISHED-TTL:P3D
REFRESH-INTERVAL:P3D
CALSCALE:GREGORIAN
BEGIN:VEVENT
DTSTART:20230720T220000Z
DTEND:20230721T000000Z
X-MICROSOFT-CDO-ALLDAYEVENT:FALSE
SUMMARY:Music in Armonk Square - Emily Khabie
DESCRIPTION:Music in the Square \n\n\n\nListen here
X-ALT-DESC;FMTTYPE=text/html:<span style="font-size:24px\;">Music in the Square&nbsp\;</span><br />\n<br />\n<a href="https://youtu.be/TxkauOdFGV0">Listen here</a><br />\n&nbsp\;
LOCATION:Armonk Square
UID:e.1129.2550
SEQUENCE:3
DTSTAMP:20260421T135638Z
URL:https://business.armonkchamberofcommerce.com/events/details/music-in-armonk-square-emily-khabie-2550
END:VEVENT

END:VCALENDAR
