BEGIN:VCALENDAR
VERSION:2.0
PRODID:-//ChamberMaster//Event Calendar 2.0//EN
METHOD:PUBLISH
X-PUBLISHED-TTL:P3D
REFRESH-INTERVAL:P3D
CALSCALE:GREGORIAN
BEGIN:VEVENT
DTSTART:20250821T220000Z
DTEND:20250822T000000Z
X-MICROSOFT-CDO-ALLDAYEVENT:FALSE
SUMMARY:Music in Armonk Square - Deni Bonet & Chris Flynn
DESCRIPTION:Music in Armonk Square - Deni Bonet & Chris Flynn
X-ALT-DESC;FMTTYPE=text/html:Music in Armonk Square - Deni Bonet &amp\; Chris Flynn
LOCATION:
UID:e.1129.2588
SEQUENCE:3
DTSTAMP:20260420T213227Z
URL:https://business.armonkchamberofcommerce.com/events/details/music-in-armonk-square-deni-bonet-chris-flynn-2588
END:VEVENT

END:VCALENDAR
