BEGIN:VCALENDAR
VERSION:2.0
PRODID:-//ChamberMaster//Event Calendar 2.0//EN
METHOD:PUBLISH
X-PUBLISHED-TTL:P3D
REFRESH-INTERVAL:P3D
CALSCALE:GREGORIAN
BEGIN:VEVENT
DTSTART:20231014T130000Z
DTEND:20231014T210000Z
X-MICROSOFT-CDO-ALLDAYEVENT:FALSE
SUMMARY:Inner Renewal Yoga and Wellness Day Retreat
DESCRIPTION:Come join us on this beautiful journey of self-discovery and inner renewal as we embrace the tranquility & magic of fall together.\n\n\n\n$25 Early Bird Discount until Oct. 1st\, limited spots\n\n\n\nExperience the transformative power of yoga\, chair yoga\, meditation\, sound healing and a shamanic healing circle to deepen your connection with nature and yourself. Lunch from Root 2 Rise NY included.\n\n\n\nRetreat Schedule\n\n9:00am Check-in\n\n9:30am Gentle Yoga or Chair Yoga (your choice)\, with Meditation\n\n10:45am Coffee / Chai Break\n\n11:15am Sound Healing Bath with Meg Pressman\n\n12:30pm Nourishing lunch by Root 2 Rise NY (Vegan & Gluten Free)\n\n1:30pm Optional Walking Meditation\n\n2:00pm Shamanic Healing Circle with Gloria DeMarchis\n\n4:45-5:00pm Closing Gratitude Circle\n\n\n\nRead more about the event details:\n\nhttps://presentwisdom.com/blog/inner-renewal-yoga-and-wellness-day-retreat/
X-ALT-DESC;FMTTYPE=text/html:Come join us on this beautiful journey of self-discovery and inner renewal as we embrace the tranquility &amp\; magic of fall together.<br />\n<br />\n<em>$25 Early Bird Discount until Oct. 1st\, limited spots</em><br />\n<br />\nExperience the transformative power of yoga\, chair yoga\, meditation\, sound healing and a shamanic healing circle to deepen your connection with nature and yourself. Lunch from Root 2 Rise NY included.<br />\n<br />\n<strong><u>Retreat Schedule</u></strong><br />\n9:00am Check-in<br />\n9:30am Gentle Yoga or Chair Yoga (your choice)\, with Meditation<br />\n10:45am Coffee / Chai Break<br />\n11:15am Sound Healing Bath with Meg Pressman<br />\n12:30pm Nourishing lunch by Root 2 Rise NY (Vegan &amp\; Gluten Free)<br />\n1:30pm Optional Walking Meditation<br />\n2:00pm Shamanic Healing Circle with Gloria DeMarchis<br />\n4:45-5:00pm Closing Gratitude Circle<br />\n<br />\nRead more about the event details:<br />\nhttps://presentwisdom.com/blog/inner-renewal-yoga-and-wellness-day-retreat/
LOCATION:Pleasantville Presbyterian Church 400 Bedford Rd.\, Pleasantville\, NY 10570
UID:e.1129.2557
SEQUENCE:3
DTSTAMP:20260421T095445Z
URL:https://business.armonkchamberofcommerce.com/events/details/inner-renewal-yoga-and-wellness-day-retreat-2557
END:VEVENT

END:VCALENDAR
