BEGIN:VCALENDAR
VERSION:2.0
PRODID:-//ChamberMaster//Event Calendar 2.0//EN
METHOD:PUBLISH
X-PUBLISHED-TTL:P3D
REFRESH-INTERVAL:P3D
CALSCALE:GREGORIAN
BEGIN:VEVENT
DTSTART;VALUE=DATE:20250512
DTEND;VALUE=DATE:20250513
TRANSP:TRANSPARENT
X-MICROSOFT-CDO-ALLDAYEVENT:TRUE
SUMMARY:Citizens of the Year 2025
DESCRIPTION:Honoring Citizens of the Year:\n     - Beascakes Bakery\n\n    - Peter Simonsen \n\n\n\nClick here to learn more about these honorees
X-ALT-DESC;FMTTYPE=text/html:&nbsp\;\n<div style="font-size: 22px\;"><span style="color:#000080\;"><strong>Honoring Citizens of the Year:</strong></span>\n<p><strong><span style="color:#0000FF\;">&#8203\;&nbsp\; &nbsp\;</span><span style="color:#FF0000\;"> - Beascakes Bakery</span></strong></p>\n</div>\n<span style="color:#800000\;"><span style="font-size:22px\;"><strong>&nbsp\;</strong></span></span><span style="color:#FF0000\;"><span style="font-size:22px\;"><strong> &nbsp\; - Peter Simonsen&nbsp\;</strong></span></span><br />\n<br />\n<a href="https://www.armonkchamberofcommerce.com/"><span style="color:#800000\;"><span style="font-size:22px\;"><strong><span style="font-size:26px\;">Click here to learn more about these honorees</span></strong></span></span></a>
LOCATION:Mount Kisco Country Club\, 10 Taylor Road\, Mount Kisco\, NY 10549
UID:e.1129.2599
SEQUENCE:3
DTSTAMP:20260420T165906Z
URL:https://business.armonkchamberofcommerce.com/events/details/citizens-of-the-year-2025-2599
END:VEVENT

END:VCALENDAR
