BEGIN:VCALENDAR
VERSION:2.0
PRODID:-//ChamberMaster//Event Calendar 2.0//EN
METHOD:PUBLISH
X-PUBLISHED-TTL:P3D
REFRESH-INTERVAL:P3D
CALSCALE:GREGORIAN
BEGIN:VEVENT
DTSTART;VALUE=DATE:20250804
DTEND;VALUE=DATE:20250911
TRANSP:TRANSPARENT
X-MICROSOFT-CDO-ALLDAYEVENT:TRUE
SUMMARY:Cider and Donut Festival Sponsorship and Table Purchase 2025
DESCRIPTION:Pay for Cider and Donut/Run for Love Event Sponsorship or Table and Booth Rental for Cider and Donut Festival Featuring Jamie's 5K Run for Love and in conjunction with the Byram Hills Preschool Assn.
X-ALT-DESC;FMTTYPE=text/html:Pay for Cider and Donut/Run for Love Event Sponsorship or Table and Booth Rental for Cider and Donut Festival Featuring Jamie&#39\;s 5K Run for Love and in conjunction with the Byram Hills Preschool Assn.&nbsp\;
LOCATION:Wampus Brook Park
UID:e.1129.2612
SEQUENCE:3
DTSTAMP:20260420T213121Z
URL:https://business.armonkchamberofcommerce.com/events/details/cider-and-donut-festival-sponsorship-and-table-purchase-2025-2612
END:VEVENT

END:VCALENDAR
