BEGIN:VCALENDAR
VERSION:2.0
PRODID:-//ChamberMaster//Event Calendar 2.0//EN
METHOD:PUBLISH
X-PUBLISHED-TTL:P3D
REFRESH-INTERVAL:P3D
CALSCALE:GREGORIAN
BEGIN:VEVENT
DTSTART:20250914T130000Z
DTEND:20250914T150000Z
X-MICROSOFT-CDO-ALLDAYEVENT:FALSE
SUMMARY:Cider and Donut Festival/Run for Love 2025 Race Registration
DESCRIPTION:Cider and Donut Festival Featuring Jamie's 5K Run for Love and in conjunction with the Byram Hills Preschool Assn. \n\n\n\nREGISTRATION IS NOW OPEN \n\n\n\n "Day of" Race Registration starts at 8:15 am
X-ALT-DESC;FMTTYPE=text/html:Cider and Donut Festival Featuring Jamie&#39\;s 5K Run for Love and in conjunction with the Byram Hills Preschool Assn.&nbsp\;<br />\n<br />\n<span style="font-size:72px\;"><a href="https://register.chronotrack.com/r/87084">REGISTRATION IS NOW OPEN</a>&nbsp\;</span><br />\n<br />\n&#8203\;&quot\;Day of&quot\; Race Registration starts at 8:15 am
LOCATION:Wampus Brook Park
UID:e.1129.2610
SEQUENCE:3
DTSTAMP:20260421T003035Z
URL:https://business.armonkchamberofcommerce.com/events/details/cider-and-donut-festival-run-for-love-2025-race-registration-2610
END:VEVENT

END:VCALENDAR
