BEGIN:VCALENDAR
VERSION:2.0
PRODID:-//ChamberMaster//Event Calendar 2.0//EN
METHOD:PUBLISH
X-PUBLISHED-TTL:P3D
REFRESH-INTERVAL:P3D
CALSCALE:GREGORIAN
BEGIN:VEVENT
DTSTART:20240922T130000Z
DTEND:20240922T180000Z
X-MICROSOFT-CDO-ALLDAYEVENT:FALSE
SUMMARY:Cider and Donut Festival/Run for Love 2024 Member Sponsorship and Table Rental
DESCRIPTION:Cider and Donut Festival Featuring Jamie's 5K Run for Love and in conjunction with the Byram Hills Preschool Assn. \n\n\n\nEvent Sponsorship Opportunities and table reservations for 2024 Cider and Donut Festival
X-ALT-DESC;FMTTYPE=text/html:Cider and Donut Festival Featuring Jamie&#39\;s 5K Run for Love and in conjunction with the Byram Hills Preschool Assn.&nbsp\;<br />\n<br />\n<span style="font-size:28px\;">Event Sponsorship Opportunities and table reservations for 2024 Cider and Donut Festival&nbsp\;</span><br />\n&nbsp\;
LOCATION:Wampus Brook Park
UID:e.1129.2591
SEQUENCE:3
DTSTAMP:20260420T185207Z
URL:https://business.armonkchamberofcommerce.com/events/details/cider-and-donut-festival-run-for-love-2024-member-sponsorship-and-table-rental-2591
END:VEVENT

END:VCALENDAR
