BEGIN:VCALENDAR
VERSION:2.0
PRODID:-//ChamberMaster//Event Calendar 2.0//EN
METHOD:PUBLISH
X-PUBLISHED-TTL:P3D
REFRESH-INTERVAL:P3D
CALSCALE:GREGORIAN
BEGIN:VEVENT
DTSTART:20230910T130000Z
DTEND:20230910T180000Z
X-MICROSOFT-CDO-ALLDAYEVENT:FALSE
SUMMARY:Cider and Donut Festival/Run for Love 2023 Race Registration
DESCRIPTION:Cider and Donut Festival Featuring Jamie's 5K Run for Love and in conjunction with the Byram Hills Preschool Assn. \n\n\n\nREGISTER HERE FOR THE RACE \n\n\n\n "Day of" Race Registration starts at 8:15 am
X-ALT-DESC;FMTTYPE=text/html:Cider and Donut Festival Featuring Jamie&#39\;s 5K Run for Love and in conjunction with the Byram Hills Preschool Assn.&nbsp\;<br />\n<br />\n<a href="https://www.athlinks.com/event/247785"><span style="font-size:72px\;">REGISTER HERE FOR THE RACE&nbsp\;</span></a><br />\n<br />\n&#8203\;&quot\;Day of&quot\; Race Registration starts at 8:15 am
LOCATION:Wampus Brook Park
UID:e.1129.2555
SEQUENCE:3
DTSTAMP:20260421T110753Z
URL:https://business.armonkchamberofcommerce.com/events/details/cider-and-donut-festival-run-for-love-2023-race-registration-2555
END:VEVENT

END:VCALENDAR
