BEGIN:VCALENDAR
VERSION:2.0
PRODID:-//ChamberMaster//Event Calendar 2.0//EN
METHOD:PUBLISH
X-PUBLISHED-TTL:P3D
REFRESH-INTERVAL:P3D
CALSCALE:GREGORIAN
BEGIN:VEVENT
DTSTART:20231213T130000Z
DTEND:20231213T143000Z
X-MICROSOFT-CDO-ALLDAYEVENT:FALSE
SUMMARY:Chamber General Meeting - NO Wednesday Meeting\, Party on the 12th
DESCRIPTION:Chamber General Meeting held 2nd Wednesday of every month at rotating member business locations
X-ALT-DESC;FMTTYPE=text/html:Chamber General Meeting held 2nd Wednesday of every month at rotating member business locations
LOCATION:Holiday Party on Tuesday December 12th instead of December Meeting Click here for information
UID:e.1129.325
SEQUENCE:3
DTSTAMP:20260421T084347Z
URL:https://business.armonkchamberofcommerce.com/events/details/chamber-general-meeting-no-wednesday-meeting-party-on-the-12th-12-13-2023-325
END:VEVENT

END:VCALENDAR
