BEGIN:VCALENDAR
VERSION:2.0
PRODID:-//ChamberMaster//Event Calendar 2.0//EN
METHOD:PUBLISH
X-PUBLISHED-TTL:P3D
REFRESH-INTERVAL:P3D
CALSCALE:GREGORIAN
BEGIN:VEVENT
DTSTART:20231108T133000Z
DTEND:20231108T143000Z
X-MICROSOFT-CDO-ALLDAYEVENT:FALSE
SUMMARY:Chamber General Meeting
DESCRIPTION:Chamber General Meeting held 2nd Wednesday of every month at rotating member business locations
X-ALT-DESC;FMTTYPE=text/html:Chamber General Meeting held 2nd Wednesday of every month at rotating member business locations
LOCATION:Breezemont Day Camp\, 62 Cox Avenue
UID:e.1129.324
SEQUENCE:3
DTSTAMP:20260421T100451Z
URL:https://business.armonkchamberofcommerce.com/events/details/chamber-general-meeting-11-08-2023-324
END:VEVENT

END:VCALENDAR
