BEGIN:VCALENDAR
VERSION:2.0
PRODID:-//ChamberMaster//Event Calendar 2.0//EN
METHOD:PUBLISH
X-PUBLISHED-TTL:P3D
REFRESH-INTERVAL:P3D
CALSCALE:GREGORIAN
BEGIN:VEVENT
DTSTART:20220914T123000Z
DTEND:20220914T133000Z
X-MICROSOFT-CDO-ALLDAYEVENT:FALSE
SUMMARY:Chamber General Meeting
DESCRIPTION:Chamber General Meeting \n\nA light breakfast consisting of bagels\, fruit and coffee will be provided. Treasures will open early at 9:30 for Chamber members to browse.
X-ALT-DESC;FMTTYPE=text/html:<span style="font-size:18px\;"><span style="font-family:arial\;"><u>Chamber General Meeting&nbsp\;</u><br />\n<strong><strong><span style="color: black\;">A light&nbsp\;</span></strong><span style="font-weight: normal\;"><span style="color: black\;">breakfast</span></span></strong><strong><span style="color: black\;">&nbsp\;consisting of bagels\, fruit and coffee will be provided. Treasures will open early at&nbsp\;</span></strong><strong><span style="font-weight: normal\;"><span style="color: black\;">9:30</span></span></strong><strong><span style="color: black\;">&nbsp\;for Chamber members to browse.</span></strong></span></span><br />\n&nbsp\;
LOCATION:Treasures\, 50 Bedford Road\, Armonk Treasures at St. Stephens Church\, directly across from Wampus Brook Park's Gazebo. Members should enter through the church entrance-up the stairs and enter through the red door.
UID:e.1129.310
SEQUENCE:3
DTSTAMP:20260422T063937Z
URL:https://business.armonkchamberofcommerce.com/events/details/chamber-general-meeting-09-14-2022-310
END:VEVENT

END:VCALENDAR
