BEGIN:VCALENDAR
VERSION:2.0
PRODID:-//ChamberMaster//Event Calendar 2.0//EN
METHOD:PUBLISH
X-PUBLISHED-TTL:P3D
REFRESH-INTERVAL:P3D
CALSCALE:GREGORIAN
BEGIN:VEVENT
DTSTART:20240911T123000Z
DTEND:20240911T133000Z
X-MICROSOFT-CDO-ALLDAYEVENT:FALSE
SUMMARY:Chamber General Meeting
DESCRIPTION:Chamber General Meeting held 2nd Wednesday of every month at rotating member business locations
X-ALT-DESC;FMTTYPE=text/html:Chamber General Meeting held 2nd Wednesday of every month at rotating member business locations<br />\n&nbsp\;
LOCATION:162 Bedford Road in the new development\, Townhome Unit 16\, Armonk
UID:e.1129.334
SEQUENCE:3
DTSTAMP:20260420T170940Z
URL:https://business.armonkchamberofcommerce.com/events/details/chamber-general-meeting-09-11-2024-334
END:VEVENT

END:VCALENDAR
