BEGIN:VCALENDAR
VERSION:2.0
PRODID:-//ChamberMaster//Event Calendar 2.0//EN
METHOD:PUBLISH
X-PUBLISHED-TTL:P3D
REFRESH-INTERVAL:P3D
CALSCALE:GREGORIAN
BEGIN:VEVENT
DTSTART:20220809T213000Z
DTEND:20220809T230000Z
X-MICROSOFT-CDO-ALLDAYEVENT:FALSE
SUMMARY:Chamber General Meeting
DESCRIPTION:August Chamber of Commerce Networking Meeting
X-ALT-DESC;FMTTYPE=text/html:<u><span style="color:#800000\;"><span style="font-size:22px\;"><span style="font-family:verdana\;">August Chamber of Commerce Networking Meeting</span></span></span></u>
LOCATION:Casa Tequila - 465 Main Street\, Armonk
UID:e.1129.309
SEQUENCE:3
DTSTAMP:20260422T082949Z
URL:https://business.armonkchamberofcommerce.com/events/details/chamber-general-meeting-08-10-2022-309
END:VEVENT

END:VCALENDAR
