BEGIN:VCALENDAR
VERSION:2.0
PRODID:-//ChamberMaster//Event Calendar 2.0//EN
METHOD:PUBLISH
X-PUBLISHED-TTL:P3D
REFRESH-INTERVAL:P3D
CALSCALE:GREGORIAN
BEGIN:VEVENT
DTSTART:20230810T210000Z
DTEND:20230810T220000Z
X-MICROSOFT-CDO-ALLDAYEVENT:FALSE
SUMMARY:Chamber General Meeting
DESCRIPTION:Our August Chamber meeting will be held at Tazza Cafe in Armonk Square (400 Main Street)  Thursday August 10th at 5pm.  Stop by to meet other Chamber members and grab a drink from Tazza on us.  Stay to hear music from Puppets for Hire as part of our Music in the Square music series. In addition to meeting some new members\, we will be discussing the particulars of next month's premier event - the Cider and Donut Festival.
X-ALT-DESC;FMTTYPE=text/html:<span style="font-family:arial\,sans-serif\;"><span style="font-size:15.0pt\;">Our August Chamber meeting will be held at Tazza Cafe in Armonk Square (400 Main Street)&nbsp\; Thursday August 10th at 5pm.&nbsp\; Stop by to meet other Chamber members and grab a drink from Tazza <em>on us.&nbsp\;</em> Stay to hear music from Puppets for Hire as part of our Music in the Square music series. In addition to meeting some new members\, we will be discussing the particulars of next month&#39\;s premier event - the Cider and Donut Festival.&nbsp\;&nbsp\;</span></span>
LOCATION:Tazza Cafe\, 400 Main Street\, Armonk (Armonk Square)
UID:e.1129.321
SEQUENCE:3
DTSTAMP:20260421T124146Z
URL:https://business.armonkchamberofcommerce.com/events/details/chamber-general-meeting-08-09-2023-321
END:VEVENT

END:VCALENDAR
