BEGIN:VCALENDAR
VERSION:2.0
PRODID:-//ChamberMaster//Event Calendar 2.0//EN
METHOD:PUBLISH
X-PUBLISHED-TTL:P3D
REFRESH-INTERVAL:P3D
CALSCALE:GREGORIAN
BEGIN:VEVENT
DTSTART:20210609T123000Z
DTEND:20210609T133000Z
X-MICROSOFT-CDO-ALLDAYEVENT:FALSE
SUMMARY:Chamber General Meeting
DESCRIPTION:Chamber General Meeting
X-ALT-DESC;FMTTYPE=text/html:Chamber General Meeting
LOCATION:Via Zoom Neal Schwartz is inviting you to a scheduled Zoom meeting. Topic: Armonk Chamber Meeting Time: Jun 9\, 2021 08:30 AM Eastern Time (US and Canada) Join Zoom Meeting https://us02web.zoom.us/j/81038489256?pwd=dUVySkVldUhjNGJUdUloYW5yanA4Zz09 Meeting ID: 810 3848 9256 Passcode: 529005 One tap mobile +16465588656\,\,81038489256#\,\,\,\,*529005# US (New York) Dial by your location +1 646 558 8656 US (New York) Meeting ID: 810 3848 9256 Passcode: 529005 Find your local number: https://us02web.zoom.us/u/kczxSg4wkg
UID:e.1129.295
SEQUENCE:3
DTSTAMP:20260423T150735Z
URL:https://business.armonkchamberofcommerce.com/events/details/chamber-general-meeting-06-09-2021-295
END:VEVENT

END:VCALENDAR
