BEGIN:VCALENDAR
VERSION:2.0
PRODID:-//ChamberMaster//Event Calendar 2.0//EN
METHOD:PUBLISH
X-PUBLISHED-TTL:P3D
REFRESH-INTERVAL:P3D
CALSCALE:GREGORIAN
BEGIN:VEVENT
DTSTART:20220608T123000Z
DTEND:20220608T133000Z
X-MICROSOFT-CDO-ALLDAYEVENT:FALSE
SUMMARY:Chamber General Meeting
DESCRIPTION:Chamber General Meeting held 2nd Wednesday of every month at rotating member business locations
X-ALT-DESC;FMTTYPE=text/html:Chamber General Meeting held 2nd Wednesday of every month at rotating member business locations
LOCATION:The Bristal at Armonk\, 90 Business Park Drive\, Armonk The meeting will be held in the Bingo Room
UID:e.1129.307
SEQUENCE:3
DTSTAMP:20260422T114457Z
URL:https://business.armonkchamberofcommerce.com/events/details/chamber-general-meeting-06-08-2022-307
END:VEVENT

END:VCALENDAR
