BEGIN:VCALENDAR
VERSION:2.0
PRODID:-//ChamberMaster//Event Calendar 2.0//EN
METHOD:PUBLISH
X-PUBLISHED-TTL:P3D
REFRESH-INTERVAL:P3D
CALSCALE:GREGORIAN
BEGIN:VEVENT
DTSTART:20250514T123000Z
DTEND:20250514T133000Z
X-MICROSOFT-CDO-ALLDAYEVENT:FALSE
SUMMARY:Chamber General Meeting
DESCRIPTION:Chamber General Meeting held 2nd Wednesday of every month at rotating member business locations
X-ALT-DESC;FMTTYPE=text/html:Chamber General Meeting held 2nd Wednesday of every month at rotating member business locations
LOCATION:North Castle Town Hall
UID:e.1129.342
SEQUENCE:3
DTSTAMP:20260420T184016Z
URL:https://business.armonkchamberofcommerce.com/events/details/chamber-general-meeting-05-14-2025-342
END:VEVENT

END:VCALENDAR
