BEGIN:VCALENDAR
VERSION:2.0
PRODID:-//ChamberMaster//Event Calendar 2.0//EN
METHOD:PUBLISH
X-PUBLISHED-TTL:P3D
REFRESH-INTERVAL:P3D
CALSCALE:GREGORIAN
BEGIN:VEVENT
DTSTART:20220511T123000Z
DTEND:20220511T134500Z
X-MICROSOFT-CDO-ALLDAYEVENT:FALSE
SUMMARY:Chamber General Meeting
DESCRIPTION:Chamber General Meeting held 2nd Wednesday of every month at rotating member business locations.\n\n\n\nThis month's meeting will be a presentation with questions and answers to follow on a critical topic important to all of us:\n\n\n\n Cybersecurity-What you need to know. \n\n\n\nOur speaker for this session is Perry Grosser of Panda Technology Group. \n\n \nHackers never give up.\n\nMalware. Ransomware. Phishing. The number and variety of attacks continues to grow\, making efficient cybersecurity difficult for most organizations. With a drastic shortage in trained cybersecurity professionals\, today's environment has become increasingly complicated and dangerous. \n\nDon't become the next target. Fight back. \n\nJoin us as Perry Grosser of Panda Technology Group\, Inc\, teaches us what we can do to protect ourselves\, our companies\, and our most valuable asset\, our data\, from hackers.\n\nPerry has been a technology consultant for almost 30 years and has worked with and protected many companies and individuals\, many household names\, actors\, musicians\, writers\, athletes\, etc. Come and learn what you can do \, the basic steps to some more complete solutions to protect your business.
X-ALT-DESC;FMTTYPE=text/html:Chamber General Meeting held 2nd Wednesday of every month at rotating member business locations.<br />\n<br />\n<strong><span style="color:#0000FF\;"><span style="font-size:22px\;">This month&#39\;s meeting will be a presentation with questions and answers to follow on a critical topic important to all of us:<br />\n<br />\n<span style="font-family:verdana\;">&nbsp\;</span></span></span><span style="font-family:verdana\;"><em><span style="font-size:22px\;">Cybersecurity-What you need to know.&nbsp\;</span></em></span><br />\n<br />\n<span style="color:#0000FF\;"><span style="font-size:22px\;">Our speaker for this session is Perry Grosser of Panda Technology Group.&nbsp\;</span></span></strong><br />\n&nbsp\;\n<p><span style="font-size:18px\;">Hackers never give up.</span><o:p></o:p></p>\n\n<p><span style="font-size:18px\;">Malware. Ransomware. Phishing. The number and variety of attacks continues to grow\, making efficient cybersecurity difficult for most organizations. With a drastic shortage in trained cybersecurity professionals\, today&rsquo\;s environment has become increasingly complicated and dangerous.&nbsp\;</span><o:p></o:p></p>\n\n<p><span style="font-size:18px\;">Don&rsquo\;t become the next target. Fight back.&nbsp\;</span><o:p></o:p></p>\n\n<p><span style="font-size:18px\;">Join us as Perry Grosser of Panda Technology Group\, Inc\, teaches us what we can do to protect ourselves\, our companies\, and our most valuable asset\, our data\, from hackers.</span><o:p></o:p></p>\n\n<p><span style="font-size:18px\;">Perry has been a technology consultant for almost 30 years and has worked with and protected many companies and individuals\, many household names\, actors\, musicians\, writers\, athletes\, etc. Come and learn what you can do \, the basic steps to some more complete solutions to protect your business.</span><o:p></o:p></p>\n
LOCATION:North Castle Public Library\, 19 Whippoorwill Road East\, Armonk The meeting will be held in the Friends Gallery
UID:e.1129.306
SEQUENCE:3
DTSTAMP:20260422T154832Z
URL:https://business.armonkchamberofcommerce.com/events/details/chamber-general-meeting-05-11-2022-306
END:VEVENT

END:VCALENDAR
