BEGIN:VCALENDAR
VERSION:2.0
PRODID:-//ChamberMaster//Event Calendar 2.0//EN
METHOD:PUBLISH
X-PUBLISHED-TTL:P3D
REFRESH-INTERVAL:P3D
CALSCALE:GREGORIAN
BEGIN:VEVENT
DTSTART:20210414T123000Z
DTEND:20210414T133000Z
X-MICROSOFT-CDO-ALLDAYEVENT:FALSE
SUMMARY:Chamber General Meeting
DESCRIPTION:Chamber General Meeting held 2nd Wednesday of every month via Zoom - will hold at member locations once Covid clears and it is safe to do so.\n\n\n\nAgenda:\n\n	Membership Drive strong with 121 members\n	Everything Armonk Up and running on website.  Print publication at the printer - expect delivery to homes/busineses before end of April.  Member listings and ads are hotlinked to member websites\n	Third Thursdays have been re-named - "Music in the Square" - 6 dates starting in June\n	Summer Concerts from July to September - 5 dates in conjunction with Town Rec Dept.\n	Citizen of the Year scheduled for Tuesday\, October 5th\n	Planning phase for Cider and Donut Festival/BHPA Carnival/5K Run for Love\n	\n		Soliciting Volunteers\n	\n	\n	New Business
X-ALT-DESC;FMTTYPE=text/html:Chamber General Meeting held 2nd Wednesday of every month via Zoom - will hold at member locations once Covid clears and it is safe to do so.<br />\n<br />\nAgenda:\n<ol>\n	<li>Membership Drive strong with 121 members</li>\n	<li>Everything Armonk Up and running on website.&nbsp\; Print publication at the printer - expect delivery to homes/busineses before end of April.&nbsp\; Member listings and ads are hotlinked to member websites</li>\n	<li>Third Thursdays have been re-named - &quot\;Music in the Square&quot\; - 6 dates starting in June</li>\n	<li>Summer Concerts from July to September - 5 dates&nbsp\;in conjunction with Town Rec Dept.</li>\n	<li>Citizen of the Year scheduled for Tuesday\, October 5th</li>\n	<li>Planning phase for Cider and Donut Festival/BHPA Carnival/5K Run for Love\n	<ol>\n		<li>Soliciting Volunteers</li>\n	</ol>\n	</li>\n	<li>New Business&nbsp\;</li>\n</ol>\n<br />\n&nbsp\;
LOCATION:Via Zoom - Neal Schwartz is inviting you to a scheduled Zoom meeting. Topic: Armonk Chamber Meeting Time: Apr 14\, 2021 08:30 AM Eastern Time (US and Canada) Every month on the Second Wed\, until Dec 8\, 2021\, 9 occurrence(s) Join Zoom Meeting https://us02web.zoom.us/j/81038489256?pwd=dUVySkVldUhjNGJUdUloYW5yanA4Zz09 Meeting ID: 810 3848 9256 Passcode: 529005 One tap mobile +16465588656\,\,81038489256#\,\,\,\,*529005# US (New York) Dial by your location +1 646 558 8656 US (New York) Meeting ID: 810 3848 9256 Passcode: 529005 Find your local number: https://us02web.zoom.us/u/kczxSg4wkg
UID:e.1129.293
SEQUENCE:3
DTSTAMP:20260423T183319Z
URL:https://business.armonkchamberofcommerce.com/events/details/chamber-general-meeting-04-14-2021-293
END:VEVENT

END:VCALENDAR
