BEGIN:VCALENDAR
VERSION:2.0
PRODID:-//ChamberMaster//Event Calendar 2.0//EN
METHOD:PUBLISH
X-PUBLISHED-TTL:P3D
REFRESH-INTERVAL:P3D
CALSCALE:GREGORIAN
BEGIN:VEVENT
DTSTART:20230414T123000Z
DTEND:20230414T133000Z
X-MICROSOFT-CDO-ALLDAYEVENT:FALSE
SUMMARY:Chamber General Meeting
DESCRIPTION:Special Chamber meeting with a Cybersecurity presentation led by Nikhil Jagga\, President of CMIT Solutions of White Plains. \n\n \nHow to Prevent your business from being the next victim of a cyber attack\n \n\nLearn the latest cyber threats that businesses are facing and what steps you can take to prevent becoming the next victim. By the end of this talk\, you'll have a better understanding of the risks your business faces and actionable steps you can take to mitigate them. Don't wait until it's too late   attend and learn how to protect your business from cyber-attacks.
X-ALT-DESC;FMTTYPE=text/html:Special Chamber meeting with a Cybersecurity presentation led by Nikhil Jagga\, President of CMIT Solutions of White Plains.&nbsp\;<br />\n&nbsp\;\n<h1 align="center" style="text-align:center\;"><u><span style="color:#343541\;"><span style="font-family:arial\,sans-serif\;"><span style="font-size:21.0pt\;">How to Prevent your business from being the next victim of a cyber attack</span></span></span></u></h1>\n&nbsp\;<br />\n<span style="background:#F7F7F8\;"><span style="color:#374151\;"><span style="font-family:arial\,sans-serif\;"><span style="font-size:12.0pt\;">Learn the latest cyber threats that businesses are facing and what steps you can take to prevent becoming the next victim.</span></span></span></span> <span style="background:#F7F7F8\;"><span style="color:#374151\;"><span style="font-family:arial\,sans-serif\;"><span style="font-size:12.0pt\;">By the end of this talk\, you&#39\;ll have a better understanding of the risks your business faces and actionable steps you can take to mitigate them. Don&#39\;t wait until it&#39\;s too late &ndash\; attend and learn how to protect your business from cyber-attacks.</span></span></span></span><br />\n<br />\n<br />\n<br />\n&nbsp\;
LOCATION:Breezemont Day Camp\,
UID:e.1129.317
SEQUENCE:3
DTSTAMP:20260421T184129Z
URL:https://business.armonkchamberofcommerce.com/events/details/chamber-general-meeting-04-12-2023-317
END:VEVENT

END:VCALENDAR
