BEGIN:VCALENDAR
VERSION:2.0
PRODID:-//ChamberMaster//Event Calendar 2.0//EN
METHOD:PUBLISH
X-PUBLISHED-TTL:P3D
REFRESH-INTERVAL:P3D
CALSCALE:GREGORIAN
BEGIN:VEVENT
DTSTART:20240314T123000Z
DTEND:20240314T133000Z
X-MICROSOFT-CDO-ALLDAYEVENT:FALSE
SUMMARY:Chamber General Meeting
DESCRIPTION:This meeting is being hosted by Katonah Classic Stage NOTE-- This meeting will be held on THURSDAY\,  March 14th.  Most other months\, the Chamber General Meeting is scheduled for the 2nd Wednesday of every month at rotating member business locations
X-ALT-DESC;FMTTYPE=text/html:<strong style="font-size: 22px\;"><span style="color: rgb(0\, 0\, 205)\;">This meeting is being hosted by Katonah Classic Stage </span></strong>NOTE-- This meeting will be held on THURSDAY\,&nbsp\; March 14th.&nbsp\; Most other months\, the Chamber General Meeting is scheduled for the 2nd Wednesday of every month at rotating member business locations
LOCATION:Whippoorwill Hall at the North Castle Public Library\, 19 Whippoorwill Rd East\, Armonk
UID:e.1129.328
SEQUENCE:3
DTSTAMP:20260421T024238Z
URL:https://business.armonkchamberofcommerce.com/events/details/chamber-general-meeting-03-13-2024-328
END:VEVENT

END:VCALENDAR
