BEGIN:VCALENDAR
VERSION:2.0
PRODID:-//ChamberMaster//Event Calendar 2.0//EN
METHOD:PUBLISH
X-PUBLISHED-TTL:P3D
REFRESH-INTERVAL:P3D
CALSCALE:GREGORIAN
BEGIN:VEVENT
DTSTART:20230208T133000Z
DTEND:20230208T143000Z
X-MICROSOFT-CDO-ALLDAYEVENT:FALSE
SUMMARY:Chamber General Meeting
DESCRIPTION:February Chamber General Meeting \nAgenda:\n\n\n	 Social Media posts for 3 Chamber members at a time\n	Summer Concerts and Music in the Square\n	Membership and Sponsorship Drive \n	Everything Armonk \n	Citizen of the Year - Tuesday May 16th\n	Other Business
X-ALT-DESC;FMTTYPE=text/html:<span style="color:#000000\;"><span style="font-size:22px\;">February Chamber General Meeting&nbsp\;</span></span>\n<p dir="ltr" role="presentation" style="list-style-type: disc\; font-size: 18pt\; font-family: Arial\; color: rgb(173\, 173\, 173)\; background-color: transparent\; font-variant-numeric: normal\; font-variant-east-asian: normal\; vertical-align: baseline\; white-space: pre\;line-height:1.38\;margin-top:0pt\;margin-bottom:0pt\;"><span style="color:#000000\;"><span id="docs-internal-guid-f8ee3d62-7fff-7dfa-7f51-bf6580eb1a82"><span style="font-size: 18pt\; background-color: transparent\; font-variant-numeric: normal\; font-variant-east-asian: normal\; vertical-align: baseline\; white-space: pre-wrap\;"><span style="font-size:14px\;">Agenda:</span></span></span></span></p>\n\n<ul dir="ltr">\n	<li role="presentation" style="list-style-type: disc\; font-size: 18pt\; font-family: Arial\; color: rgb(173\, 173\, 173)\; background-color: transparent\; font-variant-numeric: normal\; font-variant-east-asian: normal\; vertical-align: baseline\; white-space: pre\; line-height: 1.38\; margin-top: 0pt\; margin-bottom: 0pt\;"><span style="color:#000000\;"><span style="font-size: 18pt\; background-color: transparent\; font-variant-numeric: normal\; font-variant-east-asian: normal\; vertical-align: baseline\; white-space: pre-wrap\;"><span style="font-size:14px\;">&#8203\;Social Media posts for 3 Chamber members at a time</span></span></span></li>\n	<li role="presentation" style="list-style-type: disc\; font-size: 18pt\; font-family: Arial\; color: rgb(173\, 173\, 173)\; background-color: transparent\; font-variant-numeric: normal\; font-variant-east-asian: normal\; vertical-align: baseline\; white-space: pre\; line-height: 1.38\; margin-top: 0pt\; margin-bottom: 0pt\;"><span style="color:#000000\;"><span style="font-size:14px\;"><span id="docs-internal-guid-f8ee3d62-7fff-7dfa-7f51-bf6580eb1a82"><span style="background-color: transparent\; font-variant-numeric: normal\; font-variant-east-asian: normal\; vertical-align: baseline\; white-space: pre-wrap\;">Summer Concerts and Music in the Square</span></span></span></span></li>\n	<li role="presentation" style="list-style-type: disc\; font-size: 18pt\; font-family: Arial\; color: rgb(173\, 173\, 173)\; background-color: transparent\; font-variant-numeric: normal\; font-variant-east-asian: normal\; vertical-align: baseline\; white-space: pre\; line-height: 1.38\; margin-top: 0pt\; margin-bottom: 0pt\;"><span style="color:#000000\;"><span style="font-size:14px\;"><span id="docs-internal-guid-f8ee3d62-7fff-7dfa-7f51-bf6580eb1a82"><span style="background-color: transparent\; font-variant-numeric: normal\; font-variant-east-asian: normal\; vertical-align: baseline\; white-space: pre-wrap\;">Membership and Sponsorship Drive </span></span></span></span></li>\n	<li role="presentation" style="list-style-type: circle\; font-size: 14pt\; font-family: Arial\; color: rgb(173\, 173\, 173)\; background-color: transparent\; font-variant-numeric: normal\; font-variant-east-asian: normal\; vertical-align: baseline\; white-space: pre\; line-height: 1.38\; margin-top: 0pt\; margin-bottom: 0pt\;"><span style="color:#000000\;"><span style="font-size:14px\;"><span id="docs-internal-guid-f8ee3d62-7fff-7dfa-7f51-bf6580eb1a82"><span style="background-color: transparent\; font-variant-numeric: normal\; font-variant-east-asian: normal\; vertical-align: baseline\; white-space: pre-wrap\;">Everything Armonk&nbsp\;</span></span></span></span></li>\n	<li role="presentation" style="list-style-type: disc\; font-size: 18pt\; font-family: Arial\; color: rgb(173\, 173\, 173)\; background-color: transparent\; font-variant-numeric: normal\; font-variant-east-asian: normal\; vertical-align: baseline\; white-space: pre\; line-height: 1.38\; margin-top: 0pt\; margin-bottom: 0pt\;"><span style="color:#000000\;"><span style="font-size:14px\;"><span id="docs-internal-guid-f8ee3d62-7fff-7dfa-7f51-bf6580eb1a82"><span style="background-color: transparent\; font-variant-numeric: normal\; font-variant-east-asian: normal\; vertical-align: baseline\; white-space: pre-wrap\;">Citizen of the Year - Tuesday May 16th</span></span></span></span></li>\n	<li role="presentation" style="list-style-type: disc\; font-size: 18pt\; font-family: Arial\; color: rgb(173\, 173\, 173)\; background-color: transparent\; font-variant-numeric: normal\; font-variant-east-asian: normal\; vertical-align: baseline\; white-space: pre\; line-height: 1.38\; margin-top: 0pt\; margin-bottom: 0pt\;"><span style="color:#000000\;"><span style="font-size:14px\;"><span id="docs-internal-guid-f8ee3d62-7fff-7dfa-7f51-bf6580eb1a82"><span style="background-color: transparent\; font-variant-numeric: normal\; font-variant-east-asian: normal\; vertical-align: baseline\; white-space: pre-wrap\;">Other Business</span></span></span></span></li>\n</ul>\n
LOCATION:North Castle Public Library\, 19 Whippoorwill Road East\, Armonk (enter via Door on Whippoorwill Road E.)
UID:e.1129.315
SEQUENCE:3
DTSTAMP:20260421T220409Z
URL:https://business.armonkchamberofcommerce.com/events/details/chamber-general-meeting-02-08-2023-315
END:VEVENT

END:VCALENDAR
