BEGIN:VCALENDAR
VERSION:2.0
PRODID:-//ChamberMaster//Event Calendar 2.0//EN
METHOD:PUBLISH
X-PUBLISHED-TTL:P3D
REFRESH-INTERVAL:P3D
CALSCALE:GREGORIAN
BEGIN:VEVENT
DTSTART:20270113T133000Z
DTEND:20270113T143000Z
X-MICROSOFT-CDO-ALLDAYEVENT:FALSE
SUMMARY:Chamber General Meeting
DESCRIPTION:Chamber General Meeting held 2nd Wednesday of every month at rotating member business locations
X-ALT-DESC;FMTTYPE=text/html:Chamber General Meeting held 2nd Wednesday of every month at rotating member business locations
LOCATION:The Domes - Armonk Sports Complex 205 Business Park Drive\, Armonk The Domes Armonk Sports Complex - Armonk's Year-round Sports Destination
UID:e.1129.2627
SEQUENCE:3
DTSTAMP:20260421T220924Z
URL:https://business.armonkchamberofcommerce.com/events/details/chamber-general-meeting-01-13-2027-2627
END:VEVENT

END:VCALENDAR
