BEGIN:VCALENDAR
VERSION:2.0
PRODID:-//ChamberMaster//Event Calendar 2.0//EN
METHOD:PUBLISH
X-PUBLISHED-TTL:P3D
REFRESH-INTERVAL:P3D
CALSCALE:GREGORIAN
BEGIN:VEVENT
DTSTART;VALUE=DATE:20230608
DTEND;VALUE=DATE:20230612
TRANSP:TRANSPARENT
X-MICROSOFT-CDO-ALLDAYEVENT:TRUE
SUMMARY:47th Annual Fol de Rol
DESCRIPTION:http://www.armonklions.org       Fol de Rol
X-ALT-DESC;FMTTYPE=text/html:<a href="http://www.armonklions.org">http://www.armonklions.org</a>&nbsp\; &nbsp\; &nbsp\; &nbsp\;Fol de Rol&nbsp\;
LOCATION:Wampus Elementary School Field
UID:e.1129.2554
SEQUENCE:3
DTSTAMP:20260421T154156Z
URL:https://business.armonkchamberofcommerce.com/events/details/47th-annual-fol-de-rol-2554
END:VEVENT

END:VCALENDAR
