BEGIN:VCALENDAR
VERSION:2.0
PRODID:-//ChamberMaster//Event Calendar 2.0//EN
METHOD:PUBLISH
X-PUBLISHED-TTL:P3D
REFRESH-INTERVAL:P3D
CALSCALE:GREGORIAN
BEGIN:VEVENT
DTSTART:20231212T230000Z
DTEND:20231213T020000Z
X-MICROSOFT-CDO-ALLDAYEVENT:FALSE
SUMMARY:2023 Holiday Networking Party
DESCRIPTION:Armonk Chamber Holiday and Networking Party\n\nCome Relax\, Mingle and Celebrate Another Successful Year \n\n\n\n Cocktail Hour followed by Buffet Dinner
X-ALT-DESC;FMTTYPE=text/html:<p>&#8203\;<span style="color:#FF0000\;"><span style="font-size:20px\;">Armonk Chamber Holiday and Networking Party</span></span><br />\n<span style="font-size:16px\;"><span style="color:#0000CD\;"><span -webkit-text-stroke-width:="" font-size:="" font-style:="" font-variant:="" font-weight:="" letter-spacing:="" orphans:="" style="float: none\; background-color: rgb(255\, 255\, 255)\; display: inline !important\;" text-align:="" text-decoration:="" text-indent:="" text-transform:="" trebuchet="" white-space:="" word-spacing:="">Come Relax\, Mingle and Celebrate Another Successful Year&nbsp\;</span></span></span><br />\n<br />\n<span style="color:#FF0000\;"><span style="font-size:20px\;">&#8203\;<u>Cocktail Hour&nbsp\;followed by&nbsp\;Buffet Dinner</u></span></span><br />\n&nbsp\;</p>\n\n<p><span style="color:#FF0000\;"><span style="font-size:20px\;">&#8203\;</span></span></p>\n
LOCATION:Amore Pizzeria & Italian Kitchen 1 Kent Place Armonk\, NY 10504
UID:e.1129.2584
SEQUENCE:3
DTSTAMP:20260420T084832Z
URL:https://business.armonkchamberofcommerce.com/events/details/2023-holiday-networking-party-2584
END:VEVENT

END:VCALENDAR
