BEGIN:VCALENDAR
VERSION:2.0
PRODID:-//ChamberMaster//Event Calendar 2.0//EN
METHOD:PUBLISH
X-PUBLISHED-TTL:P3D
REFRESH-INTERVAL:P3D
CALSCALE:GREGORIAN
BEGIN:VEVENT
DTSTART:20221214T230000Z
DTEND:20221215T020000Z
X-MICROSOFT-CDO-ALLDAYEVENT:FALSE
SUMMARY:2022 Holiday Networking Party
DESCRIPTION:Armonk Chamber Holiday and Networking Party\n\nCome Relax\, Mingle and Celebrate Another Successful Year \n\n\n\n Cocktail Hour followed by Buffet Dinner\n\n \nCocktail Hour with Appetizers: \n\n\n	Salsa\, Guacamole and Chips\n	Buffalo Wings\n	Fried Calamari\n	Beer and House wines and Fountain Soda\n\n\n \n\nDinner Hour: \n\n\n	Salmon Vera Cruz\n	Chicken Chipotle\n	Steak Ranchero\n	Mixed Salad\n	Rice\n	Mixed Vegetables\n	Beer and House wines and Fountain Soda\n\n \n\nNote: Liquor (other than Beer and Wine) - Cash Bar
X-ALT-DESC;FMTTYPE=text/html:<p>&#8203\;<span style="color:#FF0000\;"><span style="font-size:20px\;">Armonk Chamber Holiday and Networking Party</span></span><br />\n<span style="font-size:16px\;"><span style="color:#0000CD\;"><span -webkit-text-stroke-width:="" font-size:="" font-style:="" font-variant:="" font-weight:="" letter-spacing:="" orphans:="" style="float: none\; background-color: rgb(255\, 255\, 255)\; display: inline !important\;" text-align:="" text-decoration:="" text-indent:="" text-transform:="" trebuchet="" white-space:="" word-spacing:="">Come Relax\, Mingle and Celebrate Another Successful Year&nbsp\;</span></span></span><br />\n<br />\n<span style="color:#FF0000\;"><span style="font-size:20px\;">&#8203\;<u>Cocktail Hour&nbsp\;followed by&nbsp\;Buffet Dinner</u></span></span><br />\n&nbsp\;</p>\n<span style="color:#FF0000\;"><span style="font-size:20px\;">Cocktail Hour with Appetizers: </span></span>\n\n<ul>\n	<li><span style="font-size:20px\;">Salsa\, Guacamole and Chips</span></li>\n	<li><span style="font-size:20px\;">Buffalo Wings</span></li>\n	<li><span style="font-size:20px\;">Fried Calamari</span></li>\n	<li><span style="font-size:20px\;">Beer and House wines and Fountain Soda</span></li>\n</ul>\n\n<p><span style="color:#FF0000\;"><span style="font-size:20px\;">&nbsp\;<br />\nDinner Hour: </span></span></p>\n\n<ul>\n	<li><span style="font-size:18px\;">Salmon Vera Cruz</span></li>\n	<li><span style="font-size:18px\;">Chicken Chipotle</span></li>\n	<li><span style="font-size:18px\;">Steak Ranchero</span></li>\n	<li><span style="font-size:18px\;">Mixed Salad</span></li>\n	<li><span style="font-size:18px\;">Rice</span></li>\n	<li><span style="font-size:18px\;">Mixed Vegetables</span></li>\n	<li><span style="font-size: 20px\;">Beer and House wines and Fountain Soda</span></li>\n</ul>\n&nbsp\;\n\n<p><span style="color:#FF0000\;"><span style="font-size:20px\;">Note: Liquor (other than Beer and Wine) - Cash Bar</span></span> &nbsp\;&nbsp\;<span style="color:#FF0000\;"><span style="font-size:20px\;">&#8203\;</span></span></p>\n
LOCATION:Casa Tequila 465 Main Street\, Armonk\, NY 10504
UID:e.1129.2539
SEQUENCE:3
DTSTAMP:20260422T013517Z
URL:https://business.armonkchamberofcommerce.com/events/details/2022-holiday-networking-party-2539
END:VEVENT

END:VCALENDAR
